BEGIN:VCALENDAR
VERSION:2.0
PRODID:-//Was geht im Heidekreis? - ECPv6.10.2//NONSGML v1.0//EN
CALSCALE:GREGORIAN
METHOD:PUBLISH
X-ORIGINAL-URL:https://was-geht-im-heidekreis.de
X-WR-CALDESC:Veranstaltungen für Was geht im Heidekreis?
REFRESH-INTERVAL;VALUE=DURATION:PT1H
X-Robots-Tag:noindex
X-PUBLISHED-TTL:PT1H
BEGIN:VTIMEZONE
TZID:Europe/Paris
BEGIN:DAYLIGHT
TZOFFSETFROM:+0100
TZOFFSETTO:+0200
TZNAME:CEST
DTSTART:20260329T010000
END:DAYLIGHT
BEGIN:STANDARD
TZOFFSETFROM:+0200
TZOFFSETTO:+0100
TZNAME:CET
DTSTART:20261025T010000
END:STANDARD
END:VTIMEZONE
BEGIN:VEVENT
DTSTART;TZID=Europe/Paris:20260521T170000
DTEND;TZID=Europe/Paris:20260521T190000
DTSTAMP:20260422T152156
CREATED:20260406T130032Z
LAST-MODIFIED:20260420T130102Z
UID:6786-1779382800-1779390000@was-geht-im-heidekreis.de
SUMMARY:STADTRADELN: Bürgermeister-Touren
DESCRIPTION:Soltau steigt wieder aufs Rad.
URL:https://was-geht-im-heidekreis.de/event/stadtradeln-buergermeister-touren/
LOCATION:Soltauer Innenstadt
CATEGORIES:Radsport
ATTACH;FMTTYPE=image/jpeg:https://was-geht-im-heidekreis.de/wp-content/uploads/2026/04/1r59422-1-jpg.jpg
END:VEVENT
BEGIN:VEVENT
DTSTART;TZID=Europe/Paris:20260529T170000
DTEND;TZID=Europe/Paris:20260529T224500
DTSTAMP:20260422T152156
CREATED:20260202T130039Z
LAST-MODIFIED:20260420T130102Z
UID:6326-1780074000-1780094700@was-geht-im-heidekreis.de
SUMMARY:Soltauer Stadtfest 2026
DESCRIPTION:Das Soltauer Stadtfest mit verkaufsoffenem Sonntag findet alle drei Jahre statt und bietet an drei Tagen eine bunte Open-Air-Party mit Musik und Kultur.
URL:https://was-geht-im-heidekreis.de/event/soltauer-stadtfest-2026/
LOCATION:Soltauer Innenstadt
CATEGORIES:Stadtfest
ATTACH;FMTTYPE=image/jpeg:https://was-geht-im-heidekreis.de/wp-content/uploads/2026/02/a9_2359-web-jpg.jpg
END:VEVENT
BEGIN:VEVENT
DTSTART;TZID=Europe/Paris:20260530T100000
DTEND;TZID=Europe/Paris:20260530T224500
DTSTAMP:20260422T152156
CREATED:20260202T130040Z
LAST-MODIFIED:20260202T130041Z
UID:6329-1780135200-1780181100@was-geht-im-heidekreis.de
SUMMARY:Soltauer Stadtfest 2026
DESCRIPTION:Das Soltauer Stadtfest mit verkaufsoffenem Sonntag findet alle drei Jahre statt und bietet an drei Tagen eine bunte Open-Air-Party mit Musik und Kultur.
URL:https://was-geht-im-heidekreis.de/event/soltauer-stadtfest-2026-2/
LOCATION:Soltauer Innenstadt
CATEGORIES:Stadtfest
ATTACH;FMTTYPE=image/jpeg:https://was-geht-im-heidekreis.de/wp-content/uploads/2026/02/a9_2359-web-jpg-1.jpg
END:VEVENT
BEGIN:VEVENT
DTSTART;TZID=Europe/Paris:20260531T100000
DTEND;TZID=Europe/Paris:20260531T170000
DTSTAMP:20260422T152156
CREATED:20260202T130041Z
LAST-MODIFIED:20260202T130042Z
UID:6332-1780221600-1780246800@was-geht-im-heidekreis.de
SUMMARY:Soltauer Stadtfest 2026
DESCRIPTION:Das Soltauer Stadtfest mit verkaufsoffenem Sonntag findet alle drei Jahre statt und bietet an drei Tagen eine bunte Open-Air-Party mit Musik und Kultur.
URL:https://was-geht-im-heidekreis.de/event/soltauer-stadtfest-2026-3/
LOCATION:Soltauer Innenstadt
CATEGORIES:Stadtfest
ATTACH;FMTTYPE=image/jpeg:https://was-geht-im-heidekreis.de/wp-content/uploads/2026/02/a9_2359-web-jpg-2.jpg
END:VEVENT
END:VCALENDAR