BEGIN:VCALENDAR
VERSION:2.0
PRODID:-//Was geht im Heidekreis? - ECPv6.10.2//NONSGML v1.0//EN
CALSCALE:GREGORIAN
METHOD:PUBLISH
X-WR-CALNAME:Was geht im Heidekreis?
X-ORIGINAL-URL:https://was-geht-im-heidekreis.de
X-WR-CALDESC:Veranstaltungen für Was geht im Heidekreis?
REFRESH-INTERVAL;VALUE=DURATION:PT1H
X-Robots-Tag:noindex
X-PUBLISHED-TTL:PT1H
BEGIN:VTIMEZONE
TZID:Europe/Paris
BEGIN:DAYLIGHT
TZOFFSETFROM:+0100
TZOFFSETTO:+0200
TZNAME:CEST
DTSTART:20260329T010000
END:DAYLIGHT
BEGIN:STANDARD
TZOFFSETFROM:+0200
TZOFFSETTO:+0100
TZNAME:CET
DTSTART:20261025T010000
END:STANDARD
END:VTIMEZONE
BEGIN:VEVENT
DTSTART;TZID=Europe/Paris:20260903T160000
DTEND;TZID=Europe/Paris:20260903T225900
DTSTAMP:20260422T231836
CREATED:20260420T130057Z
LAST-MODIFIED:20260420T130058Z
UID:6898-1788451200-1788476340@was-geht-im-heidekreis.de
SUMMARY:After-Work! - Komm Tanzen mit Elke & DJ Hilde
DESCRIPTION:Vier Sommerabende voller Musik\, Tanz und guter Laune – für Kinder und Erwachsene
URL:https://was-geht-im-heidekreis.de/event/after-work-komm-tanzen-mit-elke-dj-hilde-4/
LOCATION:Soltauer Innenstadt
CATEGORIES:Tanztreff
ATTACH;FMTTYPE=image/jpeg:https://was-geht-im-heidekreis.de/wp-content/uploads/2026/04/887568553738cxd___selected-jpg-3.jpg
END:VEVENT
END:VCALENDAR