BEGIN:VCALENDAR
VERSION:2.0
PRODID:-//Was geht im Heidekreis? - ECPv6.10.2//NONSGML v1.0//EN
CALSCALE:GREGORIAN
METHOD:PUBLISH
X-ORIGINAL-URL:https://was-geht-im-heidekreis.de
X-WR-CALDESC:Veranstaltungen für Was geht im Heidekreis?
REFRESH-INTERVAL;VALUE=DURATION:PT1H
X-Robots-Tag:noindex
X-PUBLISHED-TTL:PT1H
BEGIN:VTIMEZONE
TZID:Europe/Paris
BEGIN:DAYLIGHT
TZOFFSETFROM:+0100
TZOFFSETTO:+0200
TZNAME:CEST
DTSTART:20260329T010000
END:DAYLIGHT
BEGIN:STANDARD
TZOFFSETFROM:+0200
TZOFFSETTO:+0100
TZNAME:CET
DTSTART:20261025T010000
END:STANDARD
END:VTIMEZONE
BEGIN:VEVENT
DTSTART;TZID=Europe/Paris:20260806T160000
DTEND;TZID=Europe/Paris:20260806T225900
DTSTAMP:20260422T212530
CREATED:20260420T130056Z
LAST-MODIFIED:20260420T130057Z
UID:6895-1786032000-1786057140@was-geht-im-heidekreis.de
SUMMARY:After-Work! - Komm Tanzen mit Elke & DJ Hilde
DESCRIPTION:Vier Sommerabende voller Musik\, Tanz und guter Laune – für Kinder und Erwachsene
URL:https://was-geht-im-heidekreis.de/event/after-work-komm-tanzen-mit-elke-dj-hilde-3/
LOCATION:Soltauer Innenstadt
CATEGORIES:Tanztreff
ATTACH;FMTTYPE=image/jpeg:https://was-geht-im-heidekreis.de/wp-content/uploads/2026/04/887568553738cxd___selected-jpg-2.jpg
END:VEVENT
BEGIN:VEVENT
DTSTART;TZID=Europe/Paris:20260807T170000
DTEND;TZID=Europe/Paris:20260807T210000
DTSTAMP:20260422T212530
CREATED:20251116T113200Z
LAST-MODIFIED:20251116T113202Z
UID:5615-1786122000-1786136400@was-geht-im-heidekreis.de
SUMMARY:Vissel-Freitag
DESCRIPTION:Der Sommer wird wieder rockig!
URL:https://was-geht-im-heidekreis.de/event/vissel-freitag-6/
LOCATION:Rathaus Stadt Visselhövede
CATEGORIES:Konzert,Open Air sonstige
ATTACH;FMTTYPE=image/jpeg:https://was-geht-im-heidekreis.de/wp-content/uploads/2025/11/vissel-freitage-2026-5.jpg
END:VEVENT
BEGIN:VEVENT
DTSTART;TZID=Europe/Paris:20260820T173000
DTEND;TZID=Europe/Paris:20260820T225900
DTSTAMP:20260422T212530
CREATED:20260420T130100Z
LAST-MODIFIED:20260420T130102Z
UID:6907-1787247000-1787266740@was-geht-im-heidekreis.de
SUMMARY:After Work! - Sommer in Soltau
DESCRIPTION:Musik\, Genuss und gute Laune unter freiem Himmel
URL:https://was-geht-im-heidekreis.de/event/after-work-sommer-in-soltau-3/
LOCATION:Soltauer Innenstadt
CATEGORIES:Musik sonstige
ATTACH;FMTTYPE=image/jpeg:https://was-geht-im-heidekreis.de/wp-content/uploads/2026/04/1r59626-1-jpg-2.jpg
END:VEVENT
END:VCALENDAR